BEGIN:VCALENDAR
VERSION:2.0
PRODID:-//Tukios.com/
BEGIN:VEVENT
UID:59a4e690-a640-4254-8efc-3619925b550d@www.maxsass.com
DTSTAMP:20260422T021216Z
DTSTART:20260513T170000Z
DTEND:20260513T180000Z
SUMMARY:Memorial Gathering
DESCRIPTION:
URL:https://www.maxsass.com/obituaries/betty-j-wing
LOCATION: 8910 W. Drexel Avenue  Franklin WI 53132
GEO:42.9031437;-88.0260207
END:VEVENT
END:VCALENDAR