BEGIN:VCALENDAR
VERSION:2.0
PRODID:-//Tukios.com/
BEGIN:VEVENT
UID:876a0ecb-9e21-482c-a76b-27bec0385ded@www.maxsass.com
DTSTAMP:20260422T021916Z
DTSTART:20260513T180000Z
DTEND:20260513T190000Z
SUMMARY:Memorial Service
DESCRIPTION:
URL:https://www.maxsass.com/obituaries/betty-j-wing
LOCATION: 8910 W. Drexel Avenue  Franklin WI 53132
GEO:42.9031437;-88.0260207
END:VEVENT
END:VCALENDAR