BEGIN:VCALENDAR
VERSION:2.0
PRODID:-//Tukios.com/
BEGIN:VEVENT
UID:4a65c84c-1906-4889-abdb-5568530a8056@www.maxsass.com
DTSTAMP:20260422T204456Z
DTSTART:20260429T210000Z
DTEND:20260430T000000Z
SUMMARY:Visitation
DESCRIPTION:
URL:https://www.maxsass.com/obituaries/george-beidatsch-jr-teach
LOCATION: 4747 S. 60th Street  Greenfield WI 53220
GEO:42.9580467;-87.989368
END:VEVENT
END:VCALENDAR