BEGIN:VCALENDAR
VERSION:2.0
PRODID:-//Tukios.com/
BEGIN:VEVENT
UID:e01036c9-20c8-4e33-8f69-3d46e9ec76a0@www.maxsass.com
DTSTAMP:20260422T205147Z
DTSTART:20260430T143000Z
DTEND:20260430T153000Z
SUMMARY:Mass
DESCRIPTION:
URL:https://www.maxsass.com/obituaries/george-beidatsch-jr-teach
LOCATION: 2333 South 6th Street  Milwaukee WI 53215
GEO:43.0023394;-87.9191087
END:VEVENT
END:VCALENDAR