BEGIN:VCALENDAR
VERSION:2.0
PRODID:-//Tukios.com/
BEGIN:VEVENT
UID:5aadf79f-20c0-4940-8493-f258d4275b3b@www.maxsass.com
DTSTAMP:20260422T233032Z
DTSTART:20260430T160000Z
DTEND:20260430T170000Z
SUMMARY:Funeral Service
DESCRIPTION:
URL:https://www.maxsass.com/obituaries/gordon-hakala
LOCATION: 3820 West Layton Avenue  Greenfield WI 53221
GEO:42.9598962;-87.9633676
END:VEVENT
END:VCALENDAR