BEGIN:VCALENDAR
VERSION:2.0
PRODID:-//Tukios.com/
BEGIN:VEVENT
UID:6f40c66f-0f68-402d-ad59-69a768d57b68@www.maxsass.com
DTSTAMP:20260422T233032Z
DTSTART:20260430T143000Z
DTEND:20260430T160000Z
SUMMARY:Visitation
DESCRIPTION:
URL:https://www.maxsass.com/obituaries/gordon-hakala
LOCATION: 3820 West Layton Avenue  Greenfield WI 53221
GEO:42.9598962;-87.9633676
END:VEVENT
END:VCALENDAR