BEGIN:VCALENDAR
VERSION:2.0
PRODID:-//Tukios.com/
BEGIN:VEVENT
UID:5f536178-c657-4c98-8412-51867ea31916@www.maxsass.com
DTSTAMP:20260422T233122Z
DTSTART:20260430T180000Z
DTEND:20260430T190000Z
SUMMARY:Burial
DESCRIPTION:
URL:https://www.maxsass.com/obituaries/gordon-hakala
LOCATION:Southern Wisconsin Veteran Memorial Cemetery Wisconsin Veterans 
	Memorial Highway  Union Grove WI 53182
GEO:42.769899;-87.9540615
END:VEVENT
END:VCALENDAR