BEGIN:VCALENDAR
VERSION:2.0
PRODID:-//Tukios.com/
BEGIN:VEVENT
UID:4aedb69e-afbd-4de4-b15c-eedeaa122122@www.maxsass.com
DTSTAMP:20260424T035843Z
DTSTART:20260523T160000Z
DTEND:20260523T180000Z
SUMMARY:Memorial Gathering
DESCRIPTION:
URL:https://www.maxsass.com/obituaries/jerome-gaszak
LOCATION: 4747 S. 60th Street  Greenfield WI 53220
GEO:42.9580467;-87.989368
END:VEVENT
END:VCALENDAR