BEGIN:VCALENDAR
VERSION:2.0
PRODID:-//Tukios.com/
BEGIN:VEVENT
UID:cfbc7799-bdef-449c-9bb6-48d4001552bf@www.maxsass.com
DTSTAMP:20260424T035807Z
DTSTART:20260523T180000Z
DTEND:20260523T190000Z
SUMMARY:Memorial Service
DESCRIPTION:
URL:https://www.maxsass.com/obituaries/jerome-gaszak
LOCATION: 4747 S. 60th Street  Greenfield WI 53220
GEO:42.9580467;-87.989368
END:VEVENT
END:VCALENDAR