BEGIN:VCALENDAR
VERSION:2.0
PRODID:-//Tukios.com/
BEGIN:VEVENT
UID:ecc6cd71-49e1-4952-ac03-6dd0ee63d591@www.maxsass.com
DTSTAMP:20260425T001750Z
DTSTART:20260514T143000Z
DTEND:20260514T154500Z
SUMMARY:Visitation
DESCRIPTION:
URL:https://www.maxsass.com/obituaries/kathleen-macak
LOCATION: 9520 W Forest Home Ave  Hales Corners WI 53130
GEO:42.9482365;-88.0324107
END:VEVENT
END:VCALENDAR