BEGIN:VCALENDAR
VERSION:2.0
PRODID:-//Tukios.com/
BEGIN:VEVENT
UID:8cb11cf0-8931-4608-8719-f665b929f793@www.maxsass.com
DTSTAMP:20260425T001750Z
DTSTART:20260514T160000Z
DTEND:20260514T170000Z
SUMMARY:Funeral Service
DESCRIPTION:
URL:https://www.maxsass.com/obituaries/kathleen-macak
LOCATION: 9520 W Forest Home Ave  Hales Corners WI 53130
GEO:42.9482365;-88.0324107
END:VEVENT
END:VCALENDAR