BEGIN:VCALENDAR
VERSION:2.0
PRODID:-//Tukios.com/
BEGIN:VEVENT
UID:8530f012-482f-4f0e-9128-a780c97ad625@www.maxsass.com
DTSTAMP:20260425T001943Z
DTSTART:20260514
SUMMARY:Burial
DESCRIPTION:
URL:https://www.maxsass.com/obituaries/kathleen-macak
LOCATION: 3801 W Morgan Ave.  Milwaukee WI 53221
GEO:42.9783197;-87.9616593
END:VEVENT
END:VCALENDAR