BEGIN:VCALENDAR
VERSION:2.0
PRODID:-//Tukios.com/
BEGIN:VEVENT
UID:c94214e5-057e-47c2-bdec-6a78d6f6828c@www.maxsass.com
DTSTAMP:20260424T172639Z
DTSTART:20260506T150000Z
DTEND:20260506T170000Z
SUMMARY:Visitation
DESCRIPTION:
URL:https://www.maxsass.com/obituaries/nancy-guerin
LOCATION:Max A. Sass Mission Hills Chapel 8910 West Drexel Avenue  
	Franklin WI 53132
GEO:42.9031437;-88.0260207
END:VEVENT
END:VCALENDAR