BEGIN:VCALENDAR
VERSION:2.0
PRODID:-//Tukios.com/
BEGIN:VEVENT
UID:3a30ec8b-7a4c-4dc0-9e88-4cdd59945fb6@www.maxsass.com
DTSTAMP:20260424T172639Z
DTSTART:20260506T170000Z
DTEND:20260506T180000Z
SUMMARY:Memorial Service
DESCRIPTION:
URL:https://www.maxsass.com/obituaries/nancy-guerin
LOCATION: 8910 W. Drexel Avenue  Franklin WI 53132
GEO:42.9031437;-88.0260207
END:VEVENT
END:VCALENDAR