BEGIN:VCALENDAR
VERSION:2.0
PRODID:-//Tukios.com/
BEGIN:VEVENT
UID:1930eb7b-0f1a-4799-978c-b0262a0664d2@www.maxsass.com
DTSTAMP:20260420T184739Z
DTSTART:20260430T150000Z
DTEND:20260430T161500Z
SUMMARY:Visitation
DESCRIPTION:
URL:https://www.maxsass.com/obituaries/susan-wenzel
LOCATION: 9520 W Forest Home Ave  Hales Corners WI 53130
GEO:42.9482365;-88.0324107
END:VEVENT
END:VCALENDAR