BEGIN:VCALENDAR
VERSION:2.0
PRODID:-//Tukios.com/
BEGIN:VEVENT
UID:7aa90ada-6d9e-4f3a-a71f-f6060f7a757b@www.maxsass.com
DTSTAMP:20260420T184605Z
DTSTART:20260430T163000Z
DTEND:20260430T173000Z
SUMMARY:Mass
DESCRIPTION:
URL:https://www.maxsass.com/obituaries/susan-wenzel
LOCATION: 9520 W Forest Home Ave  Hales Corners WI 53130
GEO:42.9482365;-88.0324107
END:VEVENT
END:VCALENDAR