BEGIN:VCALENDAR
VERSION:2.0
PRODID:-//Tukios.com/
BEGIN:VEVENT
UID:e234392e-67db-45a6-a867-4f315696258e@www.maxsass.com
DTSTAMP:20260420T193552Z
DTSTART:20260424T150000Z
DTEND:20260424T170000Z
SUMMARY:Visitation
DESCRIPTION:
URL:https://www.maxsass.com/obituaries/xuan-vu
LOCATION: 7963 South 116th Street  Franklin WI 53132
GEO:42.901157;-88.0596017
END:VEVENT
END:VCALENDAR