BEGIN:VCALENDAR
VERSION:2.0
PRODID:-//Tukios.com/
BEGIN:VEVENT
UID:d3442ab6-f684-428a-a628-06dcda612768@www.maxsass.com
DTSTAMP:20260420T193711Z
DTSTART:20260424T173000Z
DTEND:20260424T183000Z
SUMMARY:Mass
DESCRIPTION:
URL:https://www.maxsass.com/obituaries/xuan-vu
LOCATION:St. Martin of Tours Catholic Church 7963 South 116th Street  
	Franklin WI 53132
GEO:42.901157;-88.0596017
END:VEVENT
END:VCALENDAR